BEGIN:VCALENDAR
VERSION:2.0
PRODID:-//Plone.org//NONSGML plone.app.event//EN
X-WR-TIMEZONE:Europe/Vienna
BEGIN:VEVENT
SUMMARY:Wandel der landwirtschaftlichen Arbeitswelt im späten 19. und im 
 20. Jahrhundert
DTSTART;TZID=Europe/Vienna;VALUE=DATE-TIME:20210428T100000
DTEND;TZID=Europe/Vienna;VALUE=DATE-TIME:20210428T150000
DTSTAMP;VALUE=DATE-TIME:20260425T175759Z
UID:51815c3f5b1144bc9a09da7b2568afb3@www.ruralhistory.at
CATEGORIES:Highlight,Termin
CONTACT:Brigitte Semanek\, brigitte.semanek@ruralhistory.at
CREATED;VALUE=DATE-TIME:20210415T134818Z
DESCRIPTION:Workshop mit Norbert Ortmayr\, Ernst Bruckmüller\, Jessica Ri
 chter und Guenther Steiner
LAST-MODIFIED;VALUE=DATE-TIME:20210610T081342Z
LOCATION:Online via Zoom
URL:https://www.ruralhistory.at/de/veranstaltungen/workshops-konferenzen/w
 andel-der-landwirtschaftlichen-arbeitswelt
END:VEVENT
BEGIN:VTIMEZONE
TZID:Europe/Vienna
X-LIC-LOCATION:Europe/Vienna
BEGIN:DAYLIGHT
DTSTART;VALUE=DATE-TIME:20210328T030000
TZNAME:CEST
TZOFFSETFROM:+0100
TZOFFSETTO:+0200
END:DAYLIGHT
END:VTIMEZONE
END:VCALENDAR
