BEGIN:VCALENDAR
VERSION:2.0
PRODID:-//Plone.org//NONSGML plone.app.event//EN
X-WR-TIMEZONE:Europe/Vienna
BEGIN:VEVENT
SUMMARY:Farmers’ Knowledge and Farming Practices
DTSTART;TZID=Europe/Vienna;VALUE=DATE-TIME:20250304T130000
DTEND;TZID=Europe/Vienna;VALUE=DATE-TIME:20250304T180000
DTSTAMP;VALUE=DATE-TIME:20260422T122128Z
UID:51a80be5e71645938d612d9b568b30f9@www.ruralhistory.at
CATEGORIES:Highlight,aktuell,Termin
CONTACT:Pauline Bögner\, pauline.boegner@ruralhistory.at
CREATED;VALUE=DATE-TIME:20250218T093139Z
DESCRIPTION:International workshop organised by Jessica Richter
LAST-MODIFIED;VALUE=DATE-TIME:20250218T094702Z
LOCATION:Seminarraum\, NÖ Landesbibliothek\, Kulturbezirk 3\, 3109 St. P
 ölten
URL:https://www.ruralhistory.at/de/veranstaltungen/workshops-konferenzen/f
 armers2019-knowledge-and-farming-practices
END:VEVENT
BEGIN:VTIMEZONE
TZID:Europe/Vienna
X-LIC-LOCATION:Europe/Vienna
BEGIN:STANDARD
DTSTART;VALUE=DATE-TIME:20241027T020000
TZNAME:CET
TZOFFSETFROM:+0200
TZOFFSETTO:+0100
END:STANDARD
END:VTIMEZONE
END:VCALENDAR
