BEGIN:VCALENDAR
VERSION:2.0
PRODID:-//Plone.org//NONSGML plone.app.event//EN
X-WR-TIMEZONE:Europe/Vienna
BEGIN:VEVENT
SUMMARY:Zwettl im 19. Jahrhundert
DTSTART;TZID=Europe/Vienna;VALUE=DATE-TIME:20211022T190000
DTSTAMP;VALUE=DATE-TIME:20260425T051045Z
UID:89a1016136774d76b34e05c02f0e14dd@www.ruralhistory.at
CATEGORIES:Termin,Kühschelm
CONTACT:Stadtgemeinde Zwettl\, 02822/503-122
CREATED;VALUE=DATE-TIME:20211019T140929Z
DESCRIPTION:Öffentliche Präsentation eines Epochenbands zur Stadtgeschic
 hte
LAST-MODIFIED;VALUE=DATE-TIME:20211124T085907Z
LOCATION:Sparkassensaal\, Sparkassenplatz 4\, 3910 Zwettl
URL:https://www.ruralhistory.at/de/veranstaltungen/sonstige-veranstaltunge
 n/zwettl-im-19-jahrhundert
END:VEVENT
BEGIN:VTIMEZONE
TZID:Europe/Vienna
X-LIC-LOCATION:Europe/Vienna
BEGIN:DAYLIGHT
DTSTART;VALUE=DATE-TIME:20210328T030000
TZNAME:CEST
TZOFFSETFROM:+0100
TZOFFSETTO:+0200
END:DAYLIGHT
END:VTIMEZONE
END:VCALENDAR
