BEGIN:VCALENDAR
VERSION:2.0
PRODID:-//Plone.org//NONSGML plone.app.event//EN
X-WR-TIMEZONE:Europe/Vienna
BEGIN:VEVENT
SUMMARY:„Industrie im Dorf“ beim Niederösterreichischen Museumstag
DTSTART;TZID=Europe/Vienna;VALUE=DATE-TIME:20260315T143000
DTEND;TZID=Europe/Vienna;VALUE=DATE-TIME:20260315T160000
DTSTAMP;VALUE=DATE-TIME:20260423T165755Z
UID:62c33c39d5d14aff95d6ef7126b2ea6e@www.ruralhistory.at
CATEGORIES:aktuell,News
CONTACT:Museumsmanagement Niederösterreich\, https://www.noemuseen.at/mus
 eumstag/
CREATED;VALUE=DATE-TIME:20260312T193653Z
DESCRIPTION:Erstes Forum Bürger*innenforschung Niederösterreich organisi
 ert von first und dem Museumsmanagement Niederösterreich
LAST-MODIFIED;VALUE=DATE-TIME:20260420T144437Z
LOCATION:Schloss Katzelsdorf  Schlossstraße 1\, 2801 Katzelsdorf
URL:https://www.ruralhistory.at/de/veranstaltungen/sonstige-veranstaltunge
 n/industrie-im-dorf-beim-29-niederoesterreichischen-museumstag
END:VEVENT
BEGIN:VTIMEZONE
TZID:Europe/Vienna
X-LIC-LOCATION:Europe/Vienna
BEGIN:STANDARD
DTSTART;VALUE=DATE-TIME:20251026T020000
TZNAME:CET
TZOFFSETFROM:+0200
TZOFFSETTO:+0100
END:STANDARD
END:VTIMEZONE
END:VCALENDAR
