BEGIN:VCALENDAR
VERSION:2.0
PRODID:-//Plone.org//NONSGML plone.app.event//EN
X-WR-TIMEZONE:Europe/Vienna
BEGIN:VEVENT
SUMMARY:IGLR bei der Langen Nacht der Forschung 2026
DTSTART;TZID=Europe/Vienna;VALUE=DATE-TIME:20260424T170000
DTEND;TZID=Europe/Vienna;VALUE=DATE-TIME:20260424T230000
DTSTAMP;VALUE=DATE-TIME:20260420T184713Z
UID:4e27b4c6c65a41d1be6b5df1d6f9ce70@www.ruralhistory.at
CATEGORIES:Termin,Highlight
CONTACT:https://langenachtderforschung.at
CREATED;VALUE=DATE-TIME:20260420T075052Z
DESCRIPTION:Im Museum Niederösterreich lädt das IGLR zum Kennenlernen un
 serer Forschungsarbeit ein
LAST-MODIFIED;VALUE=DATE-TIME:20260420T123223Z
LOCATION:Museum Niederösterreich\, Kulturbezirk 5\, 3100 St. Pölten
URL:https://www.ruralhistory.at/de/veranstaltungen/sonstige-veranstaltunge
 n/iglr-bei-der-langen-nacht-der-forschung-2026
END:VEVENT
BEGIN:VTIMEZONE
TZID:Europe/Vienna
X-LIC-LOCATION:Europe/Vienna
BEGIN:DAYLIGHT
DTSTART;VALUE=DATE-TIME:20260329T030000
TZNAME:CEST
TZOFFSETFROM:+0100
TZOFFSETTO:+0200
END:DAYLIGHT
END:VTIMEZONE
END:VCALENDAR
