BEGIN:VCALENDAR
VERSION:2.0
PRODID:-//Plone.org//NONSGML plone.app.event//EN
X-WR-TIMEZONE:Europe/Vienna
BEGIN:VEVENT
SUMMARY:Amalia Ribi Forclaz: The International Labour Organization and Hou
 sing Conditions in Agriculture\, 1920–1940
DTSTART;TZID=Europe/Vienna;VALUE=DATE-TIME:20211108T130000
DTEND;TZID=Europe/Vienna;VALUE=DATE-TIME:20211108T143000
DTSTAMP;VALUE=DATE-TIME:20260425T044307Z
UID:be2c588fe5e542899061984923edb580@www.ruralhistory.at
CATEGORIES:Termin
CONTACT:Brigitte Semanek\, brigitte.semanek@ruralhistory.at
CREATED;VALUE=DATE-TIME:20211027T115133Z
DESCRIPTION:Rural History Forum 76
LAST-MODIFIED;VALUE=DATE-TIME:20211206T101714Z
LOCATION:Online via Zoom
URL:https://www.ruralhistory.at/de/veranstaltungen/rural-history-forum/ama
 lia-ribi-forclaz-the-ilo-and-housing-conditions-in-agriculture-1920-1940
END:VEVENT
BEGIN:VTIMEZONE
TZID:Europe/Vienna
X-LIC-LOCATION:Europe/Vienna
BEGIN:STANDARD
DTSTART;VALUE=DATE-TIME:20211031T020000
TZNAME:CET
TZOFFSETFROM:+0200
TZOFFSETTO:+0100
END:STANDARD
END:VTIMEZONE
END:VCALENDAR
